BEGIN:VCALENDAR
VERSION:2.0
PRODID:-//eventon.com NONSGML v1.0//EN
CALSCALE:GREGORIAN
METHOD:PUBLISH
BEGIN:VEVENT
UID:69e7504fb5c7b
DTSTAMP:20260421T102415Z
DTSTART:20260316
DTEND:20260317
LOCATION:Altis Grand Hotel\,  Lisbon\,  Portugal
SUMMARY:2026 EIP Summit
DESCRIPTION:Lisbon\,  Portugal | MAR 16-19 Learn More\nhttps://www.celerion
 .com/blog/event/2026-eip-summit/
URL:https://www.celerion.com/blog/event/2026-eip-summit/
END:VEVENT
END:VCALENDAR